BEGIN:VCALENDAR
VERSION:2.0
PRODID:-//LifeSci Events - ECPv6.15.11//NONSGML v1.0//EN
CALSCALE:GREGORIAN
METHOD:PUBLISH
X-WR-CALNAME:LifeSci Events
X-ORIGINAL-URL:https://lifescievents.com
X-WR-CALDESC:Events for LifeSci Events
REFRESH-INTERVAL;VALUE=DURATION:PT1H
X-Robots-Tag:noindex
X-PUBLISHED-TTL:PT1H
BEGIN:VTIMEZONE
TZID:America/New_York
BEGIN:DAYLIGHT
TZOFFSETFROM:-0500
TZOFFSETTO:-0400
TZNAME:EDT
DTSTART:20250309T070000
END:DAYLIGHT
BEGIN:STANDARD
TZOFFSETFROM:-0400
TZOFFSETTO:-0500
TZNAME:EST
DTSTART:20251102T060000
END:STANDARD
BEGIN:DAYLIGHT
TZOFFSETFROM:-0500
TZOFFSETTO:-0400
TZNAME:EDT
DTSTART:20260308T070000
END:DAYLIGHT
BEGIN:STANDARD
TZOFFSETFROM:-0400
TZOFFSETTO:-0500
TZNAME:EST
DTSTART:20261101T060000
END:STANDARD
BEGIN:DAYLIGHT
TZOFFSETFROM:-0500
TZOFFSETTO:-0400
TZNAME:EDT
DTSTART:20270314T070000
END:DAYLIGHT
BEGIN:STANDARD
TZOFFSETFROM:-0400
TZOFFSETTO:-0500
TZNAME:EST
DTSTART:20271107T060000
END:STANDARD
END:VTIMEZONE
BEGIN:VEVENT
DTSTART;TZID=America/New_York:20260504T083000
DTEND;TZID=America/New_York:20260504T103000
DTSTAMP:20260422T204345
CREATED:20260408T205056Z
LAST-MODIFIED:20260422T124322Z
UID:2978-1777883400-1777890600@lifescievents.com
SUMMARY:Perspective Therapeutics Analyst Event
DESCRIPTION:Please join Perspective Therapeutics for an in-person and virtual Analyst Event in New York\, where the Company will share an overview of its next generation targeted radiopharmaceutical technology platform and pipeline\, along with an update on manufacturing infrastructure. \nThe event will feature key opinion leader(s) who will join members of the company’s management team. \nA live question and answer session will follow the formal presentations. Watch the webcast by clicking this link and logging in with the email address you used to register: https://lifescievents.com/event/ep0gx39/.
URL:https://lifescievents.com/event/ep0gx39/
LOCATION:New York Stock Exchange (NYSE)\, New York Stock Exchange (NYSE)\, 11 Wall St\, New York\, NY 10005
ATTACH;FMTTYPE=image/png:https://lifescievents.com/wp-content/uploads/2026/04/Perspective-Banner.png
END:VEVENT
END:VCALENDAR